BEGIN:VCALENDAR
VERSION:2.0
PRODID:icalendar-ruby
CALSCALE:GREGORIAN
BEGIN:VEVENT
DTSTAMP:20260421T135841Z
UID:7f87ac99-37e9-4422-aacd-2f6a6a780270
DTSTART;VALUE=DATE:20260513
DESCRIPTION:Property ID# 606195\, Locatoin: Clark & Co Realty\, 7 Mana Espl
 anade Paremata.\, Time: 12:00PM
SUMMARY:Auction for 2/14 Jillett Street
END:VEVENT
END:VCALENDAR
